BEGIN:VCALENDAR
VERSION:2.0
PRODID:-//Deer Park Soccer Club - ECPv6.15.20//NONSGML v1.0//EN
CALSCALE:GREGORIAN
METHOD:PUBLISH
X-ORIGINAL-URL:https://deerparksoccer.com
X-WR-CALDESC:Events for Deer Park Soccer Club
REFRESH-INTERVAL;VALUE=DURATION:PT1H
X-Robots-Tag:noindex
X-PUBLISHED-TTL:PT1H
BEGIN:VTIMEZONE
TZID:UTC
BEGIN:STANDARD
TZOFFSETFROM:+0000
TZOFFSETTO:+0000
TZNAME:UTC
DTSTART:20230101T000000
END:STANDARD
END:VTIMEZONE
BEGIN:VEVENT
DTSTART;VALUE=DATE:20240615
DTEND;VALUE=DATE:20240617
DTSTAMP:20260423T164600
CREATED:20240112T041131Z
LAST-MODIFIED:20240112T042501Z
UID:4779-1718409600-1718582399@deerparksoccer.com
SUMMARY:LIJ Games Week 9
DESCRIPTION:LIJ Soccer Game for Spring 2024
URL:https://deerparksoccer.com/calendar-events/lij-games-week-9/
CATEGORIES:LIJ Game
END:VEVENT
BEGIN:VEVENT
DTSTART;VALUE=DATE:20240608
DTEND;VALUE=DATE:20240610
DTSTAMP:20260423T164600
CREATED:20240112T041130Z
LAST-MODIFIED:20240112T042447Z
UID:4778-1717804800-1717977599@deerparksoccer.com
SUMMARY:LIJ Games Week 8
DESCRIPTION:LIJ Soccer Game for Spring 2024
URL:https://deerparksoccer.com/calendar-events/lij-games-week-8/
CATEGORIES:LIJ Game
END:VEVENT
BEGIN:VEVENT
DTSTART;VALUE=DATE:20240601
DTEND;VALUE=DATE:20240603
DTSTAMP:20260423T164600
CREATED:20240112T041130Z
LAST-MODIFIED:20240112T042436Z
UID:4777-1717200000-1717372799@deerparksoccer.com
SUMMARY:LIJ Games Week 7
DESCRIPTION:LIJ Soccer Game for Spring 2024
URL:https://deerparksoccer.com/calendar-events/lij-games-week-7/
CATEGORIES:LIJ Game
END:VEVENT
BEGIN:VEVENT
DTSTART;VALUE=DATE:20240525
DTEND;VALUE=DATE:20240527
DTSTAMP:20260423T164600
CREATED:20240112T041342Z
LAST-MODIFIED:20240112T043043Z
UID:4787-1716595200-1716767999@deerparksoccer.com
SUMMARY:LIJ No Games
DESCRIPTION:
URL:https://deerparksoccer.com/calendar-events/lij-no-games-3/
CATEGORIES:LIJ Game
END:VEVENT
BEGIN:VEVENT
DTSTART;VALUE=DATE:20240518
DTEND;VALUE=DATE:20240520
DTSTAMP:20260423T164600
CREATED:20240112T041130Z
LAST-MODIFIED:20240112T042413Z
UID:4776-1715990400-1716163199@deerparksoccer.com
SUMMARY:LIJ Games Week 6
DESCRIPTION:LIJ Soccer Game for Spring 2024
URL:https://deerparksoccer.com/calendar-events/lij-games-week-6/
CATEGORIES:LIJ Game
END:VEVENT
BEGIN:VEVENT
DTSTART;VALUE=DATE:20240511
DTEND;VALUE=DATE:20240513
DTSTAMP:20260423T164600
CREATED:20240112T041128Z
LAST-MODIFIED:20240112T042342Z
UID:4775-1715385600-1715558399@deerparksoccer.com
SUMMARY:LIJ Games Week 5
DESCRIPTION:LIJ Soccer Game for Spring 2024
URL:https://deerparksoccer.com/calendar-events/lij-games-week-5/
CATEGORIES:LIJ Game
END:VEVENT
BEGIN:VEVENT
DTSTART;TZID=UTC:20240504T000000
DTEND;TZID=UTC:20240505T000000
DTSTAMP:20260423T164600
CREATED:20240112T041343Z
LAST-MODIFIED:20240112T041602Z
UID:4790-1714780800-1714867200@deerparksoccer.com
SUMMARY:LI CUP Games Round 3
DESCRIPTION:LIJ Soccer CUP Game for Spring 2024
URL:https://deerparksoccer.com/calendar-events/li-cup-games-round-3/
CATEGORIES:LIJ Game
END:VEVENT
BEGIN:VEVENT
DTSTART;VALUE=DATE:20240504
DTEND;VALUE=DATE:20240506
DTSTAMP:20260423T164600
CREATED:20240112T041128Z
LAST-MODIFIED:20240112T042326Z
UID:4774-1714780800-1714953599@deerparksoccer.com
SUMMARY:LIJ Games Week 4
DESCRIPTION:LIJ Soccer Game for Spring 2024
URL:https://deerparksoccer.com/calendar-events/lij-games-week-4/
CATEGORIES:LIJ Game
END:VEVENT
BEGIN:VEVENT
DTSTART;VALUE=DATE:20240427
DTEND;VALUE=DATE:20240429
DTSTAMP:20260423T164600
CREATED:20240112T041342Z
LAST-MODIFIED:20240112T042748Z
UID:4786-1714176000-1714348799@deerparksoccer.com
SUMMARY:LIJ No Games
DESCRIPTION:
URL:https://deerparksoccer.com/calendar-events/lij-no-games-2/
CATEGORIES:LIJ Game
END:VEVENT
BEGIN:VEVENT
DTSTART;VALUE=DATE:20240420
DTEND;VALUE=DATE:20240422
DTSTAMP:20260423T164600
CREATED:20240112T041343Z
LAST-MODIFIED:20240112T042141Z
UID:4789-1713571200-1713743999@deerparksoccer.com
SUMMARY:LI CUP Games Round 2
DESCRIPTION:LIJ Soccer CUP Game for Spring 2024
URL:https://deerparksoccer.com/calendar-events/li-cup-games-round-2/
CATEGORIES:LIJ Game
END:VEVENT
BEGIN:VEVENT
DTSTART;VALUE=DATE:20240413
DTEND;VALUE=DATE:20240415
DTSTAMP:20260423T164600
CREATED:20240112T041128Z
LAST-MODIFIED:20240112T042048Z
UID:4773-1712966400-1713139199@deerparksoccer.com
SUMMARY:LIJ Games Week 3
DESCRIPTION:LIJ Soccer Game for Spring 2024
URL:https://deerparksoccer.com/calendar-events/lij-games-week-3/
CATEGORIES:LIJ Game
END:VEVENT
BEGIN:VEVENT
DTSTART;VALUE=DATE:20240406
DTEND;VALUE=DATE:20240408
DTSTAMP:20260423T164600
CREATED:20240112T041545Z
LAST-MODIFIED:20240112T042025Z
UID:4804-1712361600-1712534399@deerparksoccer.com
SUMMARY:LIJ Games Week 2
DESCRIPTION:LIJ Soccer Game for Spring 2024
URL:https://deerparksoccer.com/calendar-events/lij-games-week-2-2/
CATEGORIES:LIJ Game
END:VEVENT
BEGIN:VEVENT
DTSTART;VALUE=DATE:20240330
DTEND;VALUE=DATE:20240401
DTSTAMP:20260423T164600
CREATED:20240112T041131Z
LAST-MODIFIED:20240112T041955Z
UID:4780-1711756800-1711929599@deerparksoccer.com
SUMMARY:LIJ No Games
DESCRIPTION:
URL:https://deerparksoccer.com/calendar-events/lij-no-games/
CATEGORIES:LIJ Game
END:VEVENT
BEGIN:VEVENT
DTSTART;VALUE=DATE:20240323
DTEND;VALUE=DATE:20240325
DTSTAMP:20260423T164600
CREATED:20240112T041343Z
LAST-MODIFIED:20240112T041940Z
UID:4788-1711152000-1711324799@deerparksoccer.com
SUMMARY:LI CUP Games Round 1
DESCRIPTION:LIJ Soccer CUP Game for Spring 2024
URL:https://deerparksoccer.com/calendar-events/li-cup-games-round-1/
CATEGORIES:LIJ Game
END:VEVENT
BEGIN:VEVENT
DTSTART;VALUE=DATE:20240316
DTEND;VALUE=DATE:20240318
DTSTAMP:20260423T164600
CREATED:20240112T041545Z
LAST-MODIFIED:20240112T041759Z
UID:4803-1710547200-1710719999@deerparksoccer.com
SUMMARY:LIJ Games Week 1
DESCRIPTION:LIJ Soccer Game for Spring 2024
URL:https://deerparksoccer.com/calendar-events/lij-games-week-1-2/
CATEGORIES:LIJ Game
END:VEVENT
END:VCALENDAR